BEGIN:VCALENDAR
VERSION:2.0
PRODID:-//Lake Region Golf Club - ECPv6.15.18//NONSGML v1.0//EN
CALSCALE:GREGORIAN
METHOD:PUBLISH
X-WR-CALNAME:Lake Region Golf Club
X-ORIGINAL-URL:https://www.lakeregiongolfclub.com
X-WR-CALDESC:Events for Lake Region Golf Club
REFRESH-INTERVAL;VALUE=DURATION:PT1H
X-Robots-Tag:noindex
X-PUBLISHED-TTL:PT1H
BEGIN:VTIMEZONE
TZID:America/North_Dakota/Center
BEGIN:DAYLIGHT
TZOFFSETFROM:-0600
TZOFFSETTO:-0500
TZNAME:CDT
DTSTART:20260308T080000
END:DAYLIGHT
BEGIN:STANDARD
TZOFFSETFROM:-0500
TZOFFSETTO:-0600
TZNAME:CST
DTSTART:20261101T070000
END:STANDARD
BEGIN:DAYLIGHT
TZOFFSETFROM:-0600
TZOFFSETTO:-0500
TZNAME:CDT
DTSTART:20270314T080000
END:DAYLIGHT
BEGIN:STANDARD
TZOFFSETFROM:-0500
TZOFFSETTO:-0600
TZNAME:CST
DTSTART:20271107T070000
END:STANDARD
BEGIN:DAYLIGHT
TZOFFSETFROM:-0600
TZOFFSETTO:-0500
TZNAME:CDT
DTSTART:20280312T080000
END:DAYLIGHT
BEGIN:STANDARD
TZOFFSETFROM:-0500
TZOFFSETTO:-0600
TZNAME:CST
DTSTART:20281105T070000
END:STANDARD
END:VTIMEZONE
BEGIN:VEVENT
DTSTART;TZID=America/North_Dakota/Center:20270402T080000
DTEND;TZID=America/North_Dakota/Center:20270402T170000
DTSTAMP:20260421T094832
CREATED:20260402T165620Z
LAST-MODIFIED:20260402T165620Z
UID:10000822-1806652800-1806685200@www.lakeregiongolfclub.com
SUMMARY:Couples Night
DESCRIPTION:Themes TBD \nWe will post themes on social media \nCouples Night will start with food at 5pm \nGolf and Games to start at 6pm
URL:https://www.lakeregiongolfclub.com/event/couples-night/2027-04-02/
END:VEVENT
BEGIN:VEVENT
DTSTART;TZID=America/North_Dakota/Center:20270406T080000
DTEND;TZID=America/North_Dakota/Center:20270406T170000
DTSTAMP:20260421T094832
CREATED:20260402T163220Z
LAST-MODIFIED:20260402T163220Z
UID:10000678-1806998400-1807030800@www.lakeregiongolfclub.com
SUMMARY:Ladies Day
DESCRIPTION:Ladies looking for some relaxing time at the course? \nGet a tee time with us during Ladies Day and have some smiles and a great time! \nLadies Day is from 12pm- 4pm. \nYou can book tee times in advance \nYou can also play later as well. \nContact Andrew for further information. \nandrew@lakeregiongolfclub.com
URL:https://www.lakeregiongolfclub.com/event/ladies-day-2/2027-04-06/
CATEGORIES:Ladies Day
END:VEVENT
BEGIN:VEVENT
DTSTART;TZID=America/North_Dakota/Center:20270407T120000
DTEND;TZID=America/North_Dakota/Center:20270407T220000
DTSTAMP:20260421T094832
CREATED:20260402T165312Z
LAST-MODIFIED:20260402T165312Z
UID:10000786-1807099200-1807135200@www.lakeregiongolfclub.com
SUMMARY:Men's Day
DESCRIPTION:
URL:https://www.lakeregiongolfclub.com/event/mens-day/2027-04-07/
END:VEVENT
BEGIN:VEVENT
DTSTART;TZID=America/North_Dakota/Center:20270411T120000
DTEND;TZID=America/North_Dakota/Center:20270411T170000
DTSTAMP:20260421T094832
CREATED:20260402T164243Z
LAST-MODIFIED:20260402T164243Z
UID:10000727-1807444800-1807462800@www.lakeregiongolfclub.com
SUMMARY:Sunday Music on the Deck
DESCRIPTION:Come out and enjoy the sweet sounds of nature \nand also some wonderful music \nevery other Sunday\, Music on the Deck with some great talented musicians \n 
URL:https://www.lakeregiongolfclub.com/event/sunday-music-on-the-deck/2027-04-11/
CATEGORIES:SUNDAY FUNDAY
END:VEVENT
BEGIN:VEVENT
DTSTART;TZID=America/North_Dakota/Center:20270413T080000
DTEND;TZID=America/North_Dakota/Center:20270413T170000
DTSTAMP:20260421T094832
CREATED:20260402T163220Z
LAST-MODIFIED:20260402T163220Z
UID:10000679-1807603200-1807635600@www.lakeregiongolfclub.com
SUMMARY:Ladies Day
DESCRIPTION:Ladies looking for some relaxing time at the course? \nGet a tee time with us during Ladies Day and have some smiles and a great time! \nLadies Day is from 12pm- 4pm. \nYou can book tee times in advance \nYou can also play later as well. \nContact Andrew for further information. \nandrew@lakeregiongolfclub.com
URL:https://www.lakeregiongolfclub.com/event/ladies-day-2/2027-04-13/
CATEGORIES:Ladies Day
END:VEVENT
BEGIN:VEVENT
DTSTART;TZID=America/North_Dakota/Center:20270414T120000
DTEND;TZID=America/North_Dakota/Center:20270414T220000
DTSTAMP:20260421T094832
CREATED:20260402T165312Z
LAST-MODIFIED:20260402T165312Z
UID:10000787-1807704000-1807740000@www.lakeregiongolfclub.com
SUMMARY:Men's Day
DESCRIPTION:
URL:https://www.lakeregiongolfclub.com/event/mens-day/2027-04-14/
END:VEVENT
BEGIN:VEVENT
DTSTART;TZID=America/North_Dakota/Center:20270420T080000
DTEND;TZID=America/North_Dakota/Center:20270420T170000
DTSTAMP:20260421T094832
CREATED:20260402T163220Z
LAST-MODIFIED:20260402T163220Z
UID:10000680-1808208000-1808240400@www.lakeregiongolfclub.com
SUMMARY:Ladies Day
DESCRIPTION:Ladies looking for some relaxing time at the course? \nGet a tee time with us during Ladies Day and have some smiles and a great time! \nLadies Day is from 12pm- 4pm. \nYou can book tee times in advance \nYou can also play later as well. \nContact Andrew for further information. \nandrew@lakeregiongolfclub.com
URL:https://www.lakeregiongolfclub.com/event/ladies-day-2/2027-04-20/
CATEGORIES:Ladies Day
END:VEVENT
BEGIN:VEVENT
DTSTART;TZID=America/North_Dakota/Center:20270421T120000
DTEND;TZID=America/North_Dakota/Center:20270421T220000
DTSTAMP:20260421T094832
CREATED:20260402T165312Z
LAST-MODIFIED:20260402T165312Z
UID:10000788-1808308800-1808344800@www.lakeregiongolfclub.com
SUMMARY:Men's Day
DESCRIPTION:
URL:https://www.lakeregiongolfclub.com/event/mens-day/2027-04-21/
END:VEVENT
BEGIN:VEVENT
DTSTART;TZID=America/North_Dakota/Center:20270425T120000
DTEND;TZID=America/North_Dakota/Center:20270425T170000
DTSTAMP:20260421T094832
CREATED:20260402T164243Z
LAST-MODIFIED:20260402T164243Z
UID:10000728-1808654400-1808672400@www.lakeregiongolfclub.com
SUMMARY:Sunday Music on the Deck
DESCRIPTION:Come out and enjoy the sweet sounds of nature \nand also some wonderful music \nevery other Sunday\, Music on the Deck with some great talented musicians \n 
URL:https://www.lakeregiongolfclub.com/event/sunday-music-on-the-deck/2027-04-25/
CATEGORIES:SUNDAY FUNDAY
END:VEVENT
BEGIN:VEVENT
DTSTART;TZID=America/North_Dakota/Center:20270427T080000
DTEND;TZID=America/North_Dakota/Center:20270427T170000
DTSTAMP:20260421T094832
CREATED:20260402T163220Z
LAST-MODIFIED:20260402T163220Z
UID:10000681-1808812800-1808845200@www.lakeregiongolfclub.com
SUMMARY:Ladies Day
DESCRIPTION:Ladies looking for some relaxing time at the course? \nGet a tee time with us during Ladies Day and have some smiles and a great time! \nLadies Day is from 12pm- 4pm. \nYou can book tee times in advance \nYou can also play later as well. \nContact Andrew for further information. \nandrew@lakeregiongolfclub.com
URL:https://www.lakeregiongolfclub.com/event/ladies-day-2/2027-04-27/
CATEGORIES:Ladies Day
END:VEVENT
BEGIN:VEVENT
DTSTART;TZID=America/North_Dakota/Center:20270428T120000
DTEND;TZID=America/North_Dakota/Center:20270428T220000
DTSTAMP:20260421T094832
CREATED:20260402T165312Z
LAST-MODIFIED:20260402T165312Z
UID:10000789-1808913600-1808949600@www.lakeregiongolfclub.com
SUMMARY:Men's Day
DESCRIPTION:
URL:https://www.lakeregiongolfclub.com/event/mens-day/2027-04-28/
END:VEVENT
END:VCALENDAR