BEGIN:VCALENDAR
VERSION:2.0
PRODID:-//Lake Region Golf Club - ECPv6.15.18//NONSGML v1.0//EN
CALSCALE:GREGORIAN
METHOD:PUBLISH
X-ORIGINAL-URL:https://www.lakeregiongolfclub.com
X-WR-CALDESC:Events for Lake Region Golf Club
REFRESH-INTERVAL;VALUE=DURATION:PT1H
X-Robots-Tag:noindex
X-PUBLISHED-TTL:PT1H
BEGIN:VTIMEZONE
TZID:America/North_Dakota/Center
BEGIN:DAYLIGHT
TZOFFSETFROM:-0600
TZOFFSETTO:-0500
TZNAME:CDT
DTSTART:20240310T080000
END:DAYLIGHT
BEGIN:STANDARD
TZOFFSETFROM:-0500
TZOFFSETTO:-0600
TZNAME:CST
DTSTART:20241103T070000
END:STANDARD
BEGIN:DAYLIGHT
TZOFFSETFROM:-0600
TZOFFSETTO:-0500
TZNAME:CDT
DTSTART:20250309T080000
END:DAYLIGHT
BEGIN:STANDARD
TZOFFSETFROM:-0500
TZOFFSETTO:-0600
TZNAME:CST
DTSTART:20251102T070000
END:STANDARD
BEGIN:DAYLIGHT
TZOFFSETFROM:-0600
TZOFFSETTO:-0500
TZNAME:CDT
DTSTART:20260308T080000
END:DAYLIGHT
BEGIN:STANDARD
TZOFFSETFROM:-0500
TZOFFSETTO:-0600
TZNAME:CST
DTSTART:20261101T070000
END:STANDARD
END:VTIMEZONE
BEGIN:VEVENT
DTSTART;TZID=America/North_Dakota/Center:20250720T140000
DTEND;TZID=America/North_Dakota/Center:20250720T200000
DTSTAMP:20260420T082803
CREATED:20250203T173103Z
LAST-MODIFIED:20250306T205954Z
UID:10000110-1753020000-1753041600@www.lakeregiongolfclub.com
SUMMARY:Sunday FUNday- Live Music on Players Deck
DESCRIPTION:Join us on the Players deck for some live music\, food and cocktails.
URL:https://www.lakeregiongolfclub.com/event/sunday-funday-live-music-on-players-deck/2025-07-20/
CATEGORIES:SUNDAY FUNDAY
END:VEVENT
BEGIN:VEVENT
DTSTART;TZID=America/North_Dakota/Center:20250706T140000
DTEND;TZID=America/North_Dakota/Center:20250706T200000
DTSTAMP:20260420T082803
CREATED:20250203T173103Z
LAST-MODIFIED:20250306T205954Z
UID:10000109-1751810400-1751832000@www.lakeregiongolfclub.com
SUMMARY:Sunday FUNday- Live Music on Players Deck
DESCRIPTION:Join us on the Players deck for some live music\, food and cocktails.
URL:https://www.lakeregiongolfclub.com/event/sunday-funday-live-music-on-players-deck/2025-07-06/
CATEGORIES:SUNDAY FUNDAY
END:VEVENT
BEGIN:VEVENT
DTSTART;TZID=America/North_Dakota/Center:20250622T140000
DTEND;TZID=America/North_Dakota/Center:20250622T200000
DTSTAMP:20260420T082803
CREATED:20250203T173103Z
LAST-MODIFIED:20250306T205954Z
UID:10000108-1750600800-1750622400@www.lakeregiongolfclub.com
SUMMARY:Sunday FUNday- Live Music on Players Deck
DESCRIPTION:Join us on the Players deck for some live music\, food and cocktails.
URL:https://www.lakeregiongolfclub.com/event/sunday-funday-live-music-on-players-deck/2025-06-22/
CATEGORIES:SUNDAY FUNDAY
END:VEVENT
BEGIN:VEVENT
DTSTART;TZID=America/North_Dakota/Center:20250608T140000
DTEND;TZID=America/North_Dakota/Center:20250608T200000
DTSTAMP:20260420T082803
CREATED:20250203T173103Z
LAST-MODIFIED:20250306T205954Z
UID:10000107-1749391200-1749412800@www.lakeregiongolfclub.com
SUMMARY:Sunday FUNday- Live Music on Players Deck
DESCRIPTION:Join us on the Players deck for some live music\, food and cocktails.
URL:https://www.lakeregiongolfclub.com/event/sunday-funday-live-music-on-players-deck/2025-06-08/
CATEGORIES:SUNDAY FUNDAY
END:VEVENT
BEGIN:VEVENT
DTSTART;TZID=America/North_Dakota/Center:20250525T140000
DTEND;TZID=America/North_Dakota/Center:20250525T180000
DTSTAMP:20260420T082803
CREATED:20250203T173103Z
LAST-MODIFIED:20250306T205954Z
UID:10000106-1748181600-1748196000@www.lakeregiongolfclub.com
SUMMARY:Sunday FUNday- Live Music on Players Deck
DESCRIPTION:Join us on the Players deck for some live music\, food and cocktails.
URL:https://www.lakeregiongolfclub.com/event/sunday-funday-live-music-on-players-deck/2025-05-25/
CATEGORIES:SUNDAY FUNDAY
END:VEVENT
END:VCALENDAR